BEGIN:VCALENDAR
VERSION:2.0
PRODID:-//nxsports.org//NXsports//EN
CALSCALE:GREGORIAN
METHOD:REQUEST
BEGIN:VEVENT
SUMMARY:All Schools Triathlon and Aquathlon
UID:NXEV722078-1776851928@nxsports.org
SEQUENCE:0
STATUS:CONFIRMED
TRANSP:TRANSPARENT
DTSTART:20261010T000000
DTEND:20261011T235959
LOCATION:Kawana\, Queensland
URL:https\://www.triathlon.org.au/State_Associations/QLD/qld/Events/Our_Events/All_Schools_Triathlon.htm
END:VEVENT
END:VCALENDAR