BEGIN:VCALENDAR
VERSION:2.0
PRODID:-//nxsports.org//NXsports//EN
CALSCALE:GREGORIAN
METHOD:REQUEST
BEGIN:VEVENT
SUMMARY:Adelaide Triathlon Series - West Lakes
UID:NXEV721146-1776852138@nxsports.org
SEQUENCE:0
STATUS:CONFIRMED
TRANSP:TRANSPARENT
DTSTART:20270126T000000
DTEND:20270126T235959
LOCATION:West Lakes\, South Australia
URL:https\://www.triathlon.org.au/adelaide-triathlon-series-oarsman-reserve-west-lakes/
END:VEVENT
END:VCALENDAR