BEGIN:VCALENDAR
VERSION:2.0
PRODID:-//nxsports.org//NXsports//EN
CALSCALE:GREGORIAN
METHOD:REQUEST
BEGIN:VEVENT
SUMMARY:Adelaide Duathlon Series - Victoria Park
UID:NXEV710183-1776852244@nxsports.org
SEQUENCE:0
STATUS:CONFIRMED
TRANSP:TRANSPARENT
DTSTART:20260802T000000
DTEND:20260802T235959
LOCATION:Adelaide\, South Australia
URL:https\://www.westlakestriathlons.org/
END:VEVENT
END:VCALENDAR