BEGIN:VCALENDAR
VERSION:2.0
PRODID:-//nxsports.org//NXsports//EN
CALSCALE:GREGORIAN
METHOD:REQUEST
BEGIN:VEVENT
SUMMARY:Noosa Enduro
UID:NXEV669266-1776852244@nxsports.org
SEQUENCE:0
STATUS:CONFIRMED
TRANSP:TRANSPARENT
DTSTART:20260620T000000
DTEND:20260621T235959
LOCATION:Noosa\, Queensland
URL:www.noosaenduro.com.au
END:VEVENT
END:VCALENDAR